BEGIN:VCALENDAR
VERSION:2.0
PRODID:-//wp-events-plugin.com//7.2.3.1//EN
BEGIN:VEVENT
UID:1066@mnbeer.com
DTSTART:20150129T210000Z
DTEND:20150130T030000Z
DTSTAMP:20150129T161955Z
URL:https://www.mnbeer.com/events/tin-whiskers-scottish-ale-release/
SUMMARY:Tin Whiskers Scottish Ale Release
DESCRIPTION:Tin Whiskers Brewing Company is proud to announce the release o
 f the Lecky Scottish Ale available exclusively at their taproom. What’s 
 with the name? Lecky is a Scottish slang for electricity\, which keeps the
  consistency of the electrical engineer beer themes but adds a little\n\n
 “The Lecky is a great Scottish Ale with a nice peated\, smoke aroma and 
 taste. Similar to a Highland Scotch. This is a great beer for the scotch 
 drinkers out there” – Jeff Moriarty\, President &amp\; 1/3 Founder Ti
 n Whiskers\n\nMaking their triumphant return to the taproom are special gu
 ests the Brian Boru Pipe-Band\, who will be stopping by at 6:00pm to play 
 a few songs and celebrate. They last appeared at the Tin Whiskers grand op
 ening back in June 2014 and shared the stage (and bag pipes) with St. Paul
  Mayor Chris Coleman. To raise the stakes and fun for the release\, anyone
  who wears a kilt into the Taproom that day gets a pint on the house! Tapr
 oom is open from 4:00pm until 10:00pm on Thursday\, January 29\, 2015.
CATEGORIES:Beer Release,Breweries
LOCATION:Tin Whiskers Brewing Company\, 125 East 9th Street\, Saint Paul\, 
 MN\, United States
GEO:44.9506615;-93.09361000000001
X-APPLE-STRUCTURED-LOCATION;VALUE=URI;X-ADDRESS=125 East 9th Street\, Saint
  Paul\, MN\, United States;X-APPLE-RADIUS=100;X-TITLE=Tin Whiskers Brewing
  Company:geo:44.9506615,-93.09361000000001
END:VEVENT
END:VCALENDAR