BEGIN:VCALENDAR
VERSION:2.0
PRODID:-//wp-events-plugin.com//7.2.3.1//EN
BEGIN:VEVENT
UID:750@mnbeer.com
DTSTART:20140726T050000Z
DTEND:20140726T050000Z
DTSTAMP:20140715T033214Z
URL:https://www.mnbeer.com/events/tour-de-fat/
SUMMARY:Tour de Fat
DESCRIPTION:Tour de Fat is a day dear to our hearts – a day to connect pe
 ople with bikes\, beer and community. Picture a traveling sideshow of (fam
 ily-friendly) bicycle madness that includes a bike parade\, costumes and o
 ther silliness. Expect music and other excitement as well. At the time of 
 print\, acts weren’t listed\, but if other cities are any indication\, t
 he bands should knock your shants off… This event supports the Bicycle A
 lliance of Minnesota\, Midtown Greenway Coalition and Minnesota Off Road.
LOCATION:Loring Park\, Grant Avenue &amp\; WIllow Street\, Minneapoli\, MN\
 , United States
GEO:44.9698605;-93.2818623
X-APPLE-STRUCTURED-LOCATION;VALUE=URI;X-ADDRESS=Grant Avenue & WIllow Stree
 t\, Minneapoli\, MN\, United States;X-APPLE-RADIUS=100;X-TITLE=Loring Park
 :geo:44.9698605,-93.2818623
END:VEVENT
END:VCALENDAR