BEGIN:VCALENDAR
VERSION:2.0
PRODID:-//wp-events-plugin.com//7.2.3.1//EN
BEGIN:VEVENT
UID:3283@mnbeer.com
DTSTART;VALUE=DATE:20181015
DTEND;VALUE=DATE:20181020
DTSTAMP:20181012T212000Z
URL:https://www.mnbeer.com/events/town-hall-brewery-21st-anniversary-celeb
 ration/
SUMMARY:Town Hall Brewery 21st Anniversary Celebration
DESCRIPTION:Town Hall Brewery celebrates its 21st Anniversary the week of O
 ctober 15\, with events and specials including beer releases and its annua
 l Anniversary Beer Dinner. Stop down to celebrate the past and toast to th
 e future at Town Hall Brewery. \n\nAnniversary Week Schedule:\nMonday\, Oc
 tober 15: Triple beer release—6  Hour Tour\, Mango Mama and Anniversary 
 Ale available on tap and in growlers.\n\nTuesday\, October 16: Anniversary
  Beer Dinner (reservation only)\, 7 p.m. — Specialty food items paired w
 ith featured beers. \n\nWednesday\, October 17: Blackbarrel Gold release\,
  flights of single barrel whiskeys\, and the unveiling of our Bourbon Barr
 el Aged Maple Syrup. The evening will also feature a flight sampler which 
 will include four drinks: Blackbarrel Gold\; a cocktail shooter of the dri
 nk that inspired Blackbarrel Gold\; a cocktail shooter made with the new B
 ourbon Barrel Aged Maple Syrup\; and a sample of the syrup itself. \n\nThu
 rsday\, October 18: Throwback night with special guest\, our founder\, Pet
 e Rifakes\, behind the bar. Throwback menu items will be available along w
 ith throwback beer pricing.  \n\nTown Hall Brewery is located at: 1430 S. 
 Washington Ave.\, Minneapolis\, MN\, 55454.\n
ATTACH;FMTTYPE=image/jpeg:https://www.mnbeer.com/wp-content/uploads/Town-H
 all-Logo-2018.png
CATEGORIES:Bars/Restaurants,Beer Festival,Beer Release,Breweries
LOCATION:Minneapolis Town Hall Brewery\, 1430 Washington Avenue South\, Min
 neapolis\, MN\, United States
GEO:44.9733315;-93.24778570000001
X-APPLE-STRUCTURED-LOCATION;VALUE=URI;X-ADDRESS=1430 Washington Avenue Sout
 h\, Minneapolis\, MN\, United States;X-APPLE-RADIUS=100;X-TITLE=Minneapoli
 s Town Hall Brewery:geo:44.9733315,-93.24778570000001
END:VEVENT
END:VCALENDAR