BEGIN:VCALENDAR
VERSION:2.0
PRODID:-//wp-events-plugin.com//7.2.3.1//EN
BEGIN:VEVENT
UID:977@mnbeer.com
DTSTART:20141216T220000Z
DTEND:20141216T220000Z
DTSTAMP:20141211T091735Z
URL:https://www.mnbeer.com/events/town-hall-festivus/
SUMMARY:Town Hall Festivus
DESCRIPTION:Yes I know your friends who loooooved Seinfeld hold a Festivus 
 party every year complete with ugly sweaters (nobody’s ever thought of t
 hat one before) and a crappy gift exchange full ironic hipster mall junk. 
 Forget that noise. Minneapolis Town Hall Brewery’s Festivus is the only 
 one in town worth your time. Sample this year’s Festivus beer as well as
  other holiday specials like Grinch’s Grog and elves’ Elixir and mulle
 d beer and wine on their patio. Don’t miss this!
LOCATION:Minneapolis Town Hall Brewery\, 1430 Washington Avenue South\, Min
 neapolis\, MN\, United States
GEO:44.9733315;-93.24778570000001
X-APPLE-STRUCTURED-LOCATION;VALUE=URI;X-ADDRESS=1430 Washington Avenue Sout
 h\, Minneapolis\, MN\, United States;X-APPLE-RADIUS=100;X-TITLE=Minneapoli
 s Town Hall Brewery:geo:44.9733315,-93.24778570000001
END:VEVENT
END:VCALENDAR