BEGIN:VCALENDAR
VERSION:2.0
PRODID:-//wp-events-plugin.com//7.2.3.1//EN
BEGIN:VEVENT
UID:721@mnbeer.com
DTSTART:20140621T050000Z
DTEND:20140621T220000Z
DTSTAMP:20140610T165126Z
URL:https://www.mnbeer.com/events/tre-day-a-concert-to-benefit-the-joseph-
 sodd-iii-memorial-fund/
SUMMARY:Tre Day – A Concert to Benefit the Joseph Sodd III Memorial Fund
DESCRIPTION:Featuring:\nCurtiss A\nGreg Grease\nToussaint Morrison\nFreq.\n
 \nSilent auction and raffle\n\nThe beneficiary of this year’s funds will
  be U of MN dance teacher Ellen Keane’s “Body of Sound” project\, an
  outreach program offering tap dance education to students at economically
  challenged Twin Cities elementary schools.
ATTACH;FMTTYPE=image/jpeg:https://www.mnbeer.com/wp-content/uploads/TreDay
 .jpg
CATEGORIES:Charity
LOCATION:Harriet Brewing\, 3036 Minnehaha Ave\, Minneapolis\, MN\, 55401\, 
 United States
GEO:44.9471444;-93.2338704
X-APPLE-STRUCTURED-LOCATION;VALUE=URI;X-ADDRESS=3036 Minnehaha Ave\, Minnea
 polis\, MN\, 55401\, United States;X-APPLE-RADIUS=100;X-TITLE=Harriet Brew
 ing:geo:44.9471444,-93.2338704
END:VEVENT
END:VCALENDAR