BEGIN:VCALENDAR
VERSION:2.0
PRODID:-//wp-events-plugin.com//7.2.3.1//EN
BEGIN:VEVENT
UID:1844@mnbeer.com
DTSTART:20160620T220000Z
DTEND:20160621T010000Z
DTSTAMP:20160607T214627Z
URL:https://www.mnbeer.com/events/trivia-night-for-ja/
SUMMARY:Trivia Night for JA
DESCRIPTION:Show off your trivia smarts while enjoying a night of snacks an
 d drink to benefit Junior Achievement of the Upper Midwest. \n\nWhat:Trivi
 a Mafia\nWho: You and your friends! Come compete as a team of 2-6 particip
 ants\nCost: $25 per team member \nWhy: It's fun\, and proceeds benefit JA!
 \n\nTicket price includes one complimentary beverage and snack foods. Food
  truck menus also available.\n\nBrewery tours from 5-5:30pm\; trivia from 
 5:30-7:30pm.
ATTACH;FMTTYPE=image/jpeg:https://www.mnbeer.com/wp-content/uploads/image-
 for-calendars.jpg
CATEGORIES:Charity
LOCATION:Modist Brewing Company\, 505 N. 3rd Street\, Minneapolis\, MN\, 55
 401\, United States
GEO:44.98533080000001;-93.27594979999998
X-APPLE-STRUCTURED-LOCATION;VALUE=URI;X-ADDRESS=505 N. 3rd Street\, Minneap
 olis\, MN\, 55401\, United States;X-APPLE-RADIUS=100;X-TITLE=Modist Brewin
 g Company:geo:44.98533080000001,-93.27594979999998
END:VEVENT
END:VCALENDAR