BEGIN:VCALENDAR
VERSION:2.0
PRODID:-//wp-events-plugin.com//7.2.3.1//EN
BEGIN:VEVENT
UID:1117@mnbeer.com
DTSTART:20150327T000000Z
DTEND:20150328T020000Z
DTSTAMP:20150218T191355Z
URL:https://www.mnbeer.com/events/triviasco-thursdays-with-ian-rans-2015-0
 3-26/
SUMMARY:Triviasco Thursdays with Ian Rans
DESCRIPTION:Triviasco! Pop culture pub Trivia hosted by Ian Rans!\nWin $50 
 worth of beer and other fantastic prizes!\nEvery Thursday in March at 7PM!
  For both thinkers and drinker
ATTACH;FMTTYPE=image/jpeg:https://www.mnbeer.com/wp-content/uploads/boomfl
 yer-c3-640x425.jpg
CATEGORIES:Breweries
LOCATION:Boom Island Brewing Taproom\, 2014 Washington Ave. N.\, Minneapoli
 s\, MN\, 55411\, United States
GEO:44.999905;-93.281517
X-APPLE-STRUCTURED-LOCATION;VALUE=URI;X-ADDRESS=2014 Washington Ave. N.\, M
 inneapolis\, MN\, 55411\, United States;X-APPLE-RADIUS=100;X-TITLE=Boom Is
 land Brewing Taproom:geo:44.999905,-93.281517
END:VEVENT
END:VCALENDAR