BEGIN:VCALENDAR
VERSION:2.0
PRODID:-//wp-events-plugin.com//7.2.3.1//EN
BEGIN:VEVENT
UID:3290@mnbeer.com
DTSTART:20181023T230000Z
DTEND:20181025T010000Z
DTSTAMP:20181024T012342Z
URL:https://www.mnbeer.com/events/tuesday-cribbage-tourney-2018-10-23/
SUMMARY:Tuesday Cribbage Tourney
DESCRIPTION:We're playing cribbage!\nTuesday cribbage tournaments each Tues
 day in October. We have 16 available spots\, first come\, first serve. Wee
 kly prizes include a $25.00 gift certificate for 1st place\, $10.00 2nd pl
 ace and of course bragging rights.\n\nhttps://www.facebook.com/events/2263
 06308242779/?event_time_id=226306311576112\n
CATEGORIES:Breweries
LOCATION:Wabasha Brewing Company\, 429 Wabasha St South\, St Paul\, MN\, 55
 107\, United States
GEO:44.9329546;-93.08471829999996
X-APPLE-STRUCTURED-LOCATION;VALUE=URI;X-ADDRESS=429 Wabasha St South\, St P
 aul\, MN\, 55107\, United States;X-APPLE-RADIUS=100;X-TITLE=Wabasha Brewin
 g Company:geo:44.9329546,-93.08471829999996
END:VEVENT
END:VCALENDAR