BEGIN:VCALENDAR
VERSION:2.0
PRODID:-//wp-events-plugin.com//7.2.3.1//EN
BEGIN:VEVENT
UID:3391@mnbeer.com
DTSTART:20190302T180000Z
DTEND:20190302T220000Z
DTSTAMP:20190122T171953Z
URL:https://www.mnbeer.com/events/twin-cities-record-show/
SUMMARY:Twin Cities Record Show
DESCRIPTION:We will feature thousands of record albums\, 45 RPM records and
  music memorabilia.Free admission all day!There's an ATM right in the fron
 t\, plenty of free parkingacross the street\, and the show is dog and fami
 ly friendly.https://www.facebook.com/events/808353442884178/
LOCATION:Able Seedhouse & Brewery\, Able Seedhouse & Brewery\, 
X-APPLE-STRUCTURED-LOCATION;VALUE=URI;X-ADDRESS=Able Seedhouse & Brewery\, 
 ;X-APPLE-RADIUS=100;X-TITLE=Able Seedhouse & Brewery:geo:0,0
END:VEVENT
END:VCALENDAR