BEGIN:VCALENDAR
VERSION:2.0
PRODID:-//wp-events-plugin.com//7.2.3.1//EN
BEGIN:VEVENT
UID:3416@mnbeer.com
DTSTART:20190126T120000Z
DTEND:20190126T220000Z
DTSTAMP:20190123T180853Z
URL:https://www.mnbeer.com/events/two-year-anniversary-and-cider-release-p
 arty/
SUMMARY:TWO Year Anniversary and Cider Release Party!
DESCRIPTION:Cuyuna Brewing turns TWO! And we couldn't have done it without 
 YOU. So we\, in collaboration with Cuyuna Adventure Town USA\, invite you 
 to celebrate with us with live music\, prizes\, cake and the release of ou
 r first batch of HARD CIDER!\n\nGIVE-AWAYS every hour on the hour from 1:0
 0 - 9:00 pm. Prizes range from a free pint to t-shirts and growlers and mo
 re. Need not be present to win\, but it's more fun if you are. Everyone 21
 + gets a ticket and for every beer purchase (pints\, flights and growlers)
  you get an additional ticket.\n\nMusic line up and schedule for the day:\
 n3:00 - 5:00 pm Common Men\n5:00 pm Anniversary Toast by Nick and Laura an
 d Release of Hard Cider\n5:30 - 8:30 pm Tobias Jansen Music\n\nhttps://www
 .facebook.com/events/341529089771191/
LOCATION:Cuyuna Brewing Company\, 1 East Main St.\, Crosby\, MN\, United St
 ates
X-APPLE-STRUCTURED-LOCATION;VALUE=URI;X-ADDRESS=1 East Main St.\, Crosby\, 
 MN\, United States;X-APPLE-RADIUS=100;X-TITLE=Cuyuna Brewing Company:geo:0
 ,0
END:VEVENT
END:VCALENDAR