BEGIN:VCALENDAR
VERSION:2.0
PRODID:-//wp-events-plugin.com//7.2.3.1//EN
BEGIN:VEVENT
UID:3422@mnbeer.com
DTSTART:20190214T180000Z
DTEND:20190214T210000Z
DTSTAMP:20190123T191748Z
URL:https://www.mnbeer.com/events/valentines-day-3-course-dinner/
SUMMARY:Valentine's Day 3-Course Dinner
DESCRIPTION:When there's nothing you hate about that special someone\, show
  it by treating them to a Roadhouse Catered 3-Course Gourmet Mexican Dinne
 r &amp\; Beer Pairing at Disgruntled. It's where all the true loves will b
 e. $50 per couple\; limited seats available so buy your tickets now!\n\nht
 tps://www.facebook.com/events/1888830211239444/
LOCATION:Disgruntled Brewing\, 735 2nd St NE\, Perham\, MN\, 56573\, United
  States
GEO:46.590525;-95.557627
X-APPLE-STRUCTURED-LOCATION;VALUE=URI;X-ADDRESS=735 2nd St NE\, Perham\, MN
 \, 56573\, United States;X-APPLE-RADIUS=100;X-TITLE=Disgruntled Brewing:ge
 o:46.590525,-95.557627
END:VEVENT
END:VCALENDAR