BEGIN:VCALENDAR
VERSION:2.0
PRODID:-//wp-events-plugin.com//7.2.3.1//EN
BEGIN:VEVENT
UID:1073@mnbeer.com
DTSTART:20150214T163000Z
DTEND:20150214T203000Z
DTSTAMP:20150204T202845Z
URL:https://www.mnbeer.com/events/valentines-day-brewery-tour-for-couples/
SUMMARY:Valentine's Day Brewery Tour\, for Couples
DESCRIPTION:Surprise your loved one with something new this year and take o
 ur Couples Valentine’s Day Brewery Tour. Hop on the luxury coach bus and
  tour 3 different breweries around the twin cities. With each stop you’l
 l have the opportunity to pair a truffle from Legacy Chocolates with a loc
 al craft beer. You’ll also enjoy a behind the scene tour and have the op
 portunity to sample a variety of brews.
CATEGORIES:Pairing,Tasting,Tours
END:VEVENT
END:VCALENDAR