BEGIN:VCALENDAR
VERSION:2.0
PRODID:-//wp-events-plugin.com//7.2.3.1//EN
BEGIN:VEVENT
UID:1074@mnbeer.com
DTSTART:20150214T210000Z
DTEND:20150215T010000Z
DTSTAMP:20150204T185541Z
URL:https://www.mnbeer.com/events/valentines-day-brewery-tour-for-singles/
SUMMARY:Valentine's Day Brewery Tour\, for Singles
DESCRIPTION:Are you single and ready to mingle? Hop on our coach bus for ou
 r first ever brewery pub crawl\, just for singles. Our stops include three
  breweries\, where samples or pints of beer will be included. You’ll hav
 e plenty of time in a fun atmosphere to meet other singles. If you’re hu
 ngry food trucks are usually available at Fulton and Harriet Brewing.
CATEGORIES:pub crawl,Tasting,Tours
END:VEVENT
END:VCALENDAR