BEGIN:VCALENDAR
VERSION:2.0
PRODID:-//wp-events-plugin.com//7.2.3.1//EN
BEGIN:VEVENT
UID:749@mnbeer.com
DTSTART:20140807T233000Z
DTEND:20140807T233000Z
DTSTAMP:20140715T032114Z
URL:https://www.mnbeer.com/events/vine-park-brews-cruise-2/
SUMMARY:Vine Park Brews Cruise
DESCRIPTION:Join Vine Park Brewing company for their annual Brews Cruise on
  the Mississippi. Kick back with three hours of beer (and root beer if you
 ’re so inclined)\, music\, food and the sights of the Mississippi river 
 valley. You’ll walk away with a belly full of beer and perhaps a few new
  friends! $75/person
ATTACH;FMTTYPE=image/jpeg:https://www.mnbeer.com/wp-content/uploads/2008/0
 1/vinepark.jpg
LOCATION:Harriet Island\, Plato Boulevard and West Water Street\, St. Paul\
 , MN\, United States
GEO:44.9361105;-93.09512319999999
X-APPLE-STRUCTURED-LOCATION;VALUE=URI;X-ADDRESS=Plato Boulevard and West Wa
 ter Street\, St. Paul\, MN\, United States;X-APPLE-RADIUS=100;X-TITLE=Harr
 iet Island:geo:44.9361105,-93.09512319999999
END:VEVENT
END:VCALENDAR