BEGIN:VCALENDAR
VERSION:2.0
PRODID:-//wp-events-plugin.com//7.2.3.1//EN
BEGIN:VEVENT
UID:3295@mnbeer.com
DTSTART:20181128T223000Z
DTEND:20181129T003000Z
DTSTAMP:20181116T182944Z
URL:https://www.mnbeer.com/events/vote-once-more-for-beer/
SUMMARY:Vote once more\, for beer!
DESCRIPTION:Come to Unmapped Brewery and vote one more time - for beer. Unm
 apped is creating a special tasting flight and attendees can use ranked ch
 oice voting to pick their favorites. Attendees can see how easy ranked cho
 ice voting is and learn a bit about its benefits. The event is co-hosted b
 y the League of Women Voters and Fairvote. Unmapped Brewery\, 14625 Excels
 ior Blvd\, Minnetonka. November 28th\, 5:30-7:30. Free!
ATTACH;FMTTYPE=image/jpeg:https://www.mnbeer.com/wp-content/uploads/RankYo
 urBrewMtka.jpg
CATEGORIES:Tasting
LOCATION:Unmapped Brewery\, 14625 Excelsior Blvd\, Minnetonka\, MN\, 55345\
 , United States
GEO:44.9040348;-93.46723129999998
X-APPLE-STRUCTURED-LOCATION;VALUE=URI;X-ADDRESS=14625 Excelsior Blvd\, Minn
 etonka\, MN\, 55345\, United States;X-APPLE-RADIUS=100;X-TITLE=Unmapped Br
 ewery:geo:44.9040348,-93.46723129999998
END:VEVENT
END:VCALENDAR