BEGIN:VCALENDAR
VERSION:2.0
PRODID:-//wp-events-plugin.com//7.2.3.1//EN
BEGIN:VEVENT
UID:3216@mnbeer.com
DTSTART:20180620T233000Z
DTEND:20180621T013000Z
DTSTAMP:20180514T063208Z
URL:https://www.mnbeer.com/events/wednesday-night-with-trivia-mafia-2018-0
 6-20/
SUMMARY:Wednesday Night with Trivia Mafia
DESCRIPTION:Join us for our weekly Trivia Night featuring “THE WORLD’S 
 BEST BAR TRIVIA” presented by Trivia Mafia. \n\nCome have a pint or two 
 or three and stretch your brain!\n\n$1 OFF SINGLE POURS\n\nPRIZES\n1st Pla
 ce: $30 gift card\n2nd Place: $20 gift card\nHalftime Leader Prize: Flight
  and pretzels
ATTACH;FMTTYPE=image/jpeg:https://www.mnbeer.com/wp-content/uploads/trivia
 -mafia-event-image.jpg
CATEGORIES:Misc.
LOCATION:Big Wood Brewery\, 2222 4th Street\, White Bear Lake\, Minnesota\,
  55110\, United States
GEO:45.0853084;-93.00678719999996
X-APPLE-STRUCTURED-LOCATION;VALUE=URI;X-ADDRESS=2222 4th Street\, White Bea
 r Lake\, Minnesota\, 55110\, United States;X-APPLE-RADIUS=100;X-TITLE=Big 
 Wood Brewery:geo:45.0853084,-93.00678719999996
END:VEVENT
END:VCALENDAR