BEGIN:VCALENDAR
VERSION:2.0
PRODID:-//wp-events-plugin.com//7.2.3.1//EN
BEGIN:VEVENT
UID:3284@mnbeer.com
DTSTART:20181110T170000Z
DTEND:20181111T000000Z
DTSTAMP:20181024T012318Z
URL:https://www.mnbeer.com/events/westside-farmers-market-at-wabasha-brewi
 ng-company/
SUMMARY:Westside Farmers Market at Wabasha Brewing Company
DESCRIPTION:The 4rd annual Westside Farmers Market at Wabasha Brewing Compa
 ny. Shop for fall goods and holiday items while sipping on great beers in 
 the brewery parking lot. Open to all\, starting at noon and running until 
 6:30pm. \nhttps://www.facebook.com/events/314634612648049/\n
CATEGORIES:Breweries
LOCATION:Wabasha Brewing Company\, 429 Wabasha St S\, Saint Paul\, MN\, 551
 07\, United States
GEO:44.93292659999999;-93.084745
X-APPLE-STRUCTURED-LOCATION;VALUE=URI;X-ADDRESS=429 Wabasha St S\, Saint Pa
 ul\, MN\, 55107\, United States;X-APPLE-RADIUS=100;X-TITLE=Wabasha Brewing
  Company:geo:44.93292659999999,-93.084745
END:VEVENT
END:VCALENDAR