BEGIN:VCALENDAR
VERSION:2.0
PRODID:-//wp-events-plugin.com//7.2.3.1//EN
BEGIN:VEVENT
UID:741@mnbeer.com
DTSTART:20140719T230000Z
DTEND:20140720T050000Z
DTSTAMP:20140709T022553Z
URL:https://www.mnbeer.com/events/world-premiere-of-crafted-to-last-after-
 party/
SUMMARY:World Premiere of Crafted to Last &amp\; After Party
DESCRIPTION:The world premiere of an independently produced documentary abo
 ut Minnesota craft brewing and the on-going expansion of the industry that
  began in 2012. It features 16 breweries from across the state\, around th
 e corner and in the neighborhood. \n\nTickets: $30 includes 1 free beer\, 
 snack tapas\, the feature length film and an After Party with LeNor Barry 
 and the Grotto Revue featuring Chad Guerrero and Kenwood Slim\, Uzza\, and
  the Willie Murphy Band. Liquid light show by Papillon de Lumiere Producti
 ons.
CATEGORIES:Art
LOCATION:The Parkway Theater\, 4817 Chicago Ave. South\, Minneapolis\, MN\,
  55417\, United States
GEO:44.9155716;-93.2626042
X-APPLE-STRUCTURED-LOCATION;VALUE=URI;X-ADDRESS=4817 Chicago Ave. South\, M
 inneapolis\, MN\, 55417\, United States;X-APPLE-RADIUS=100;X-TITLE=The Par
 kway Theater:geo:44.9155716,-93.2626042
END:VEVENT
END:VCALENDAR