BEGIN:VCALENDAR
VERSION:2.0
PRODID:-//wp-events-plugin.com//7.2.3.1//EN
BEGIN:VEVENT
UID:1898@mnbeer.com
DTSTART:20160813T050000Z
DTEND:20160813T050000Z
DTSTAMP:20160708T134145Z
URL:https://www.mnbeer.com/events/yoga-nerd-morning-3/
SUMMARY:Yoga Nerd Morning
DESCRIPTION:The perfect event for yoga nerd and non-nerds alike! \n\nJoin u
 s for a one hour yoga session lead by our amazing in-house host Emily and 
 a pint of Tin Whiskers beer (or a soda) once you're done. \n\nAnd please B
 YOM (Bring your own mat \;) ) http://store.twbrewing.com/taproom-events/
ATTACH;FMTTYPE=image/jpeg:https://www.mnbeer.com/wp-content/uploads/FullSi
 zeRender-5-2.jpg
CATEGORIES:Education
LOCATION:Tin Whiskers Brewing Company\, 125 East 9th Street\, Saint Paul\, 
 MN\, United States
GEO:44.9506615;-93.09361000000001
X-APPLE-STRUCTURED-LOCATION;VALUE=URI;X-ADDRESS=125 East 9th Street\, Saint
  Paul\, MN\, United States;X-APPLE-RADIUS=100;X-TITLE=Tin Whiskers Brewing
  Company:geo:44.9506615,-93.09361000000001
END:VEVENT
END:VCALENDAR