BEGIN:VCALENDAR
VERSION:2.0
PRODID:-//wp-events-plugin.com//7.2.3.1//EN
BEGIN:VEVENT
UID:1081@mnbeer.com
DTSTART:20150226T233000Z
DTEND:20150227T020000Z
DTSTAMP:20150213T041227Z
URL:https://www.mnbeer.com/events/zelo-and-bauhaus-brew-labs-beer-dinner/
SUMMARY:Zelo and Bauhaus Brew Labs beer dinner
DESCRIPTION:Zelo and Bauhaus Brew Labs are teaming up for a 5 course dinner
  paired with beer.  View the menu at facebook.com/zelomn\nReservations may
  be made in person at Zelo or by phone (612)333-7000\nCost for event is $5
 5 + tax and gratuity.  This is a limited seating event so make your reserv
 ation today!
CATEGORIES:Beer Dinner
LOCATION:Zelo\, 831 Nicollet Mall\, Minneapolis\, MN\, 55402\, United State
 s
GEO:44.9750503;-93.27377489999998
X-APPLE-STRUCTURED-LOCATION;VALUE=URI;X-ADDRESS=831 Nicollet Mall\, Minneap
 olis\, MN\, 55402\, United States;X-APPLE-RADIUS=100;X-TITLE=Zelo:geo:44.9
 750503,-93.27377489999998
END:VEVENT
END:VCALENDAR